BEGIN:VCALENDAR
VERSION:2.0
PRODID:-//Bałtowski Kompleks Turystyczny - ECPv6.15.20//NONSGML v1.0//EN
CALSCALE:GREGORIAN
METHOD:PUBLISH
X-WR-CALNAME:Bałtowski Kompleks Turystyczny
X-ORIGINAL-URL:https://juraparkbaltow.pl
X-WR-CALDESC:Wydarzenia dla Bałtowski Kompleks Turystyczny
REFRESH-INTERVAL;VALUE=DURATION:PT1H
X-Robots-Tag:noindex
X-PUBLISHED-TTL:PT1H
BEGIN:VTIMEZONE
TZID:Europe/Warsaw
BEGIN:DAYLIGHT
TZOFFSETFROM:+0100
TZOFFSETTO:+0200
TZNAME:CEST
DTSTART:20250330T010000
END:DAYLIGHT
BEGIN:STANDARD
TZOFFSETFROM:+0200
TZOFFSETTO:+0100
TZNAME:CET
DTSTART:20251026T010000
END:STANDARD
BEGIN:DAYLIGHT
TZOFFSETFROM:+0100
TZOFFSETTO:+0200
TZNAME:CEST
DTSTART:20260329T010000
END:DAYLIGHT
BEGIN:STANDARD
TZOFFSETFROM:+0200
TZOFFSETTO:+0100
TZNAME:CET
DTSTART:20261025T010000
END:STANDARD
BEGIN:DAYLIGHT
TZOFFSETFROM:+0100
TZOFFSETTO:+0200
TZNAME:CEST
DTSTART:20270328T010000
END:DAYLIGHT
BEGIN:STANDARD
TZOFFSETFROM:+0200
TZOFFSETTO:+0100
TZNAME:CET
DTSTART:20271031T010000
END:STANDARD
END:VTIMEZONE
BEGIN:VEVENT
DTSTART;TZID=Europe/Warsaw:20260425T100000
DTEND;TZID=Europe/Warsaw:20260425T170000
DTSTAMP:20260423T135728
CREATED:20260423T073056Z
LAST-MODIFIED:20260423T073056Z
UID:10004635-1777111200-1777136400@juraparkbaltow.pl
SUMMARY:Pakiet kompleksowy
DESCRIPTION:Atrakcje w pakiecie JuraPark\, Adventure Planet\, Zwierzyniec Bałtowski (dolny+ górny Safari)\, Polska w Miniaturze\, Słowiańskie Wzgórze z Sabatówką\, Park Zabaw\, Rollercoaster\, Kino Cinema 5D\, Bumper Cars\, Jungle Jump.  
URL:https://juraparkbaltow.pl/kalendarz/pakiet-kompleksowy-26/2026-04-25/
CATEGORIES:Pakiet kompleksowy
END:VEVENT
BEGIN:VEVENT
DTSTART;TZID=Europe/Warsaw:20260426T100000
DTEND;TZID=Europe/Warsaw:20260426T170000
DTSTAMP:20260423T135728
CREATED:20260423T073056Z
LAST-MODIFIED:20260423T073056Z
UID:10004636-1777197600-1777222800@juraparkbaltow.pl
SUMMARY:Pakiet kompleksowy
DESCRIPTION:Atrakcje w pakiecie JuraPark\, Adventure Planet\, Zwierzyniec Bałtowski (dolny+ górny Safari)\, Polska w Miniaturze\, Słowiańskie Wzgórze z Sabatówką\, Park Zabaw\, Rollercoaster\, Kino Cinema 5D\, Bumper Cars\, Jungle Jump.  
URL:https://juraparkbaltow.pl/kalendarz/pakiet-kompleksowy-26/2026-04-26/
CATEGORIES:Pakiet kompleksowy
END:VEVENT
BEGIN:VEVENT
DTSTART;TZID=Europe/Warsaw:20260427T100000
DTEND;TZID=Europe/Warsaw:20260427T170000
DTSTAMP:20260423T135728
CREATED:20260423T073056Z
LAST-MODIFIED:20260423T073056Z
UID:10004637-1777284000-1777309200@juraparkbaltow.pl
SUMMARY:Pakiet kompleksowy
DESCRIPTION:Atrakcje w pakiecie JuraPark\, Adventure Planet\, Zwierzyniec Bałtowski (dolny+ górny Safari)\, Polska w Miniaturze\, Słowiańskie Wzgórze z Sabatówką\, Park Zabaw\, Rollercoaster\, Kino Cinema 5D\, Bumper Cars\, Jungle Jump.  
URL:https://juraparkbaltow.pl/kalendarz/pakiet-kompleksowy-26/2026-04-27/
CATEGORIES:Pakiet kompleksowy
END:VEVENT
BEGIN:VEVENT
DTSTART;TZID=Europe/Warsaw:20260428T100000
DTEND;TZID=Europe/Warsaw:20260428T170000
DTSTAMP:20260423T135728
CREATED:20260423T073056Z
LAST-MODIFIED:20260423T073056Z
UID:10004638-1777370400-1777395600@juraparkbaltow.pl
SUMMARY:Pakiet kompleksowy
DESCRIPTION:Atrakcje w pakiecie JuraPark\, Adventure Planet\, Zwierzyniec Bałtowski (dolny+ górny Safari)\, Polska w Miniaturze\, Słowiańskie Wzgórze z Sabatówką\, Park Zabaw\, Rollercoaster\, Kino Cinema 5D\, Bumper Cars\, Jungle Jump.  
URL:https://juraparkbaltow.pl/kalendarz/pakiet-kompleksowy-26/2026-04-28/
CATEGORIES:Pakiet kompleksowy
END:VEVENT
BEGIN:VEVENT
DTSTART;TZID=Europe/Warsaw:20260429T100000
DTEND;TZID=Europe/Warsaw:20260429T170000
DTSTAMP:20260423T135728
CREATED:20260423T073056Z
LAST-MODIFIED:20260423T073056Z
UID:10004639-1777456800-1777482000@juraparkbaltow.pl
SUMMARY:Pakiet kompleksowy
DESCRIPTION:Atrakcje w pakiecie JuraPark\, Adventure Planet\, Zwierzyniec Bałtowski (dolny+ górny Safari)\, Polska w Miniaturze\, Słowiańskie Wzgórze z Sabatówką\, Park Zabaw\, Rollercoaster\, Kino Cinema 5D\, Bumper Cars\, Jungle Jump.  
URL:https://juraparkbaltow.pl/kalendarz/pakiet-kompleksowy-26/2026-04-29/
CATEGORIES:Pakiet kompleksowy
END:VEVENT
BEGIN:VEVENT
DTSTART;TZID=Europe/Warsaw:20260430T100000
DTEND;TZID=Europe/Warsaw:20260430T180000
DTSTAMP:20260423T135728
CREATED:20260423T073056Z
LAST-MODIFIED:20260423T073056Z
UID:10004640-1777543200-1777572000@juraparkbaltow.pl
SUMMARY:Pakiet kompleksowy
DESCRIPTION:Atrakcje w pakiecie JuraPark\, Adventure Planet\, Zwierzyniec Bałtowski (dolny+ górny Safari)\, Polska w Miniaturze\, Słowiańskie Wzgórze z Sabatówką\, Park Zabaw\, Rollercoaster\, Kino Cinema 5D\, Bumper Cars\, Jungle Jump.  
URL:https://juraparkbaltow.pl/kalendarz/pakiet-kompleksowy-26/2026-04-30/
CATEGORIES:Pakiet kompleksowy
END:VEVENT
END:VCALENDAR