BEGIN:VCALENDAR
VERSION:2.0
PRODID:-//Bałtowski Kompleks Turystyczny - ECPv6.15.20//NONSGML v1.0//EN
CALSCALE:GREGORIAN
METHOD:PUBLISH
X-WR-CALNAME:Bałtowski Kompleks Turystyczny
X-ORIGINAL-URL:https://juraparkbaltow.pl
X-WR-CALDESC:Wydarzenia dla Bałtowski Kompleks Turystyczny
REFRESH-INTERVAL;VALUE=DURATION:PT1H
X-Robots-Tag:noindex
X-PUBLISHED-TTL:PT1H
BEGIN:VTIMEZONE
TZID:Europe/Warsaw
BEGIN:DAYLIGHT
TZOFFSETFROM:+0100
TZOFFSETTO:+0200
TZNAME:CEST
DTSTART:20250330T010000
END:DAYLIGHT
BEGIN:STANDARD
TZOFFSETFROM:+0200
TZOFFSETTO:+0100
TZNAME:CET
DTSTART:20251026T010000
END:STANDARD
BEGIN:DAYLIGHT
TZOFFSETFROM:+0100
TZOFFSETTO:+0200
TZNAME:CEST
DTSTART:20260329T010000
END:DAYLIGHT
BEGIN:STANDARD
TZOFFSETFROM:+0200
TZOFFSETTO:+0100
TZNAME:CET
DTSTART:20261025T010000
END:STANDARD
BEGIN:DAYLIGHT
TZOFFSETFROM:+0100
TZOFFSETTO:+0200
TZNAME:CEST
DTSTART:20270328T010000
END:DAYLIGHT
BEGIN:STANDARD
TZOFFSETFROM:+0200
TZOFFSETTO:+0100
TZNAME:CET
DTSTART:20271031T010000
END:STANDARD
END:VTIMEZONE
BEGIN:VEVENT
DTSTART;TZID=Europe/Warsaw:20260501T100000
DTEND;TZID=Europe/Warsaw:20260501T180000
DTSTAMP:20260423T135625
CREATED:20260423T073840Z
LAST-MODIFIED:20260423T074406Z
UID:10004641-1777629600-1777658400@juraparkbaltow.pl
SUMMARY:Pakiet kompleksowy
DESCRIPTION:Atrakcje w pakiecie:\nJuraPark\, Adventure Planet\, Zwierzyniec Bałtowski (dolny+ górny Safari)\, Polska w Miniaturze\, Słowiańskie Wzgórze z Sabatówką\, Park Zabaw\, Rollercoaster\, Kino Cinema 5D\, Bumper Cars\, Jungle Jump\, Prehistoryczne Oceanarium.
URL:https://juraparkbaltow.pl/kalendarz/pakiet-kompleksowy-27/2026-05-01/
CATEGORIES:Pakiet kompleksowy
END:VEVENT
BEGIN:VEVENT
DTSTART;TZID=Europe/Warsaw:20260502T100000
DTEND;TZID=Europe/Warsaw:20260502T180000
DTSTAMP:20260423T135625
CREATED:20260423T073840Z
LAST-MODIFIED:20260423T074406Z
UID:10004642-1777716000-1777744800@juraparkbaltow.pl
SUMMARY:Pakiet kompleksowy
DESCRIPTION:Atrakcje w pakiecie:\nJuraPark\, Adventure Planet\, Zwierzyniec Bałtowski (dolny+ górny Safari)\, Polska w Miniaturze\, Słowiańskie Wzgórze z Sabatówką\, Park Zabaw\, Rollercoaster\, Kino Cinema 5D\, Bumper Cars\, Jungle Jump\, Prehistoryczne Oceanarium.
URL:https://juraparkbaltow.pl/kalendarz/pakiet-kompleksowy-27/2026-05-02/
CATEGORIES:Pakiet kompleksowy
END:VEVENT
BEGIN:VEVENT
DTSTART;TZID=Europe/Warsaw:20260503T100000
DTEND;TZID=Europe/Warsaw:20260503T180000
DTSTAMP:20260423T135625
CREATED:20260423T073840Z
LAST-MODIFIED:20260423T074406Z
UID:10004643-1777802400-1777831200@juraparkbaltow.pl
SUMMARY:Pakiet kompleksowy
DESCRIPTION:Atrakcje w pakiecie:\nJuraPark\, Adventure Planet\, Zwierzyniec Bałtowski (dolny+ górny Safari)\, Polska w Miniaturze\, Słowiańskie Wzgórze z Sabatówką\, Park Zabaw\, Rollercoaster\, Kino Cinema 5D\, Bumper Cars\, Jungle Jump\, Prehistoryczne Oceanarium.
URL:https://juraparkbaltow.pl/kalendarz/pakiet-kompleksowy-27/2026-05-03/
CATEGORIES:Pakiet kompleksowy
END:VEVENT
END:VCALENDAR