BEGIN:VCALENDAR
VERSION:2.0
PRODID:-//Bałtowski Kompleks Turystyczny - ECPv6.15.20//NONSGML v1.0//EN
CALSCALE:GREGORIAN
METHOD:PUBLISH
X-WR-CALNAME:Bałtowski Kompleks Turystyczny
X-ORIGINAL-URL:https://juraparkbaltow.pl
X-WR-CALDESC:Wydarzenia dla Bałtowski Kompleks Turystyczny
REFRESH-INTERVAL;VALUE=DURATION:PT1H
X-Robots-Tag:noindex
X-PUBLISHED-TTL:PT1H
BEGIN:VTIMEZONE
TZID:Europe/Warsaw
BEGIN:DAYLIGHT
TZOFFSETFROM:+0100
TZOFFSETTO:+0200
TZNAME:CEST
DTSTART:20250330T010000
END:DAYLIGHT
BEGIN:STANDARD
TZOFFSETFROM:+0200
TZOFFSETTO:+0100
TZNAME:CET
DTSTART:20251026T010000
END:STANDARD
BEGIN:DAYLIGHT
TZOFFSETFROM:+0100
TZOFFSETTO:+0200
TZNAME:CEST
DTSTART:20260329T010000
END:DAYLIGHT
BEGIN:STANDARD
TZOFFSETFROM:+0200
TZOFFSETTO:+0100
TZNAME:CET
DTSTART:20261025T010000
END:STANDARD
BEGIN:DAYLIGHT
TZOFFSETFROM:+0100
TZOFFSETTO:+0200
TZNAME:CEST
DTSTART:20270328T010000
END:DAYLIGHT
BEGIN:STANDARD
TZOFFSETFROM:+0200
TZOFFSETTO:+0100
TZNAME:CET
DTSTART:20271031T010000
END:STANDARD
END:VTIMEZONE
BEGIN:VEVENT
DTSTART;TZID=Europe/Warsaw:20260504T100000
DTEND;TZID=Europe/Warsaw:20260504T170000
DTSTAMP:20260423T165415
CREATED:20260423T074546Z
LAST-MODIFIED:20260423T074546Z
UID:10005040-1777888800-1777914000@juraparkbaltow.pl
SUMMARY:Pakiet kompleksowy
DESCRIPTION:Atrakcje w pakiecie: JuraPark\, Adventure Planet\, Zwierzyniec Bałtowski (dolny+ górny Safari)\, Polska w Miniaturze\, Słowiańskie Wzgórze z Sabatówką\, Park Zabaw\, Rollercoaster\, Kino Cinema 5D\, Bumper Cars\, Jungle Jump\, Prehistoryczne Oceanarium.
URL:https://juraparkbaltow.pl/kalendarz/pakiet-kompleksowy-28/2026-05-04/
CATEGORIES:Pakiet kompleksowy
END:VEVENT
BEGIN:VEVENT
DTSTART;TZID=Europe/Warsaw:20260505T100000
DTEND;TZID=Europe/Warsaw:20260505T170000
DTSTAMP:20260423T165415
CREATED:20260423T074546Z
LAST-MODIFIED:20260423T074546Z
UID:10005041-1777975200-1778000400@juraparkbaltow.pl
SUMMARY:Pakiet kompleksowy
DESCRIPTION:Atrakcje w pakiecie: JuraPark\, Adventure Planet\, Zwierzyniec Bałtowski (dolny+ górny Safari)\, Polska w Miniaturze\, Słowiańskie Wzgórze z Sabatówką\, Park Zabaw\, Rollercoaster\, Kino Cinema 5D\, Bumper Cars\, Jungle Jump\, Prehistoryczne Oceanarium.
URL:https://juraparkbaltow.pl/kalendarz/pakiet-kompleksowy-28/2026-05-05/
CATEGORIES:Pakiet kompleksowy
END:VEVENT
BEGIN:VEVENT
DTSTART;TZID=Europe/Warsaw:20260506T100000
DTEND;TZID=Europe/Warsaw:20260506T170000
DTSTAMP:20260423T165415
CREATED:20260423T074546Z
LAST-MODIFIED:20260423T074546Z
UID:10005042-1778061600-1778086800@juraparkbaltow.pl
SUMMARY:Pakiet kompleksowy
DESCRIPTION:Atrakcje w pakiecie: JuraPark\, Adventure Planet\, Zwierzyniec Bałtowski (dolny+ górny Safari)\, Polska w Miniaturze\, Słowiańskie Wzgórze z Sabatówką\, Park Zabaw\, Rollercoaster\, Kino Cinema 5D\, Bumper Cars\, Jungle Jump\, Prehistoryczne Oceanarium.
URL:https://juraparkbaltow.pl/kalendarz/pakiet-kompleksowy-28/2026-05-06/
CATEGORIES:Pakiet kompleksowy
END:VEVENT
BEGIN:VEVENT
DTSTART;TZID=Europe/Warsaw:20260507T100000
DTEND;TZID=Europe/Warsaw:20260507T170000
DTSTAMP:20260423T165415
CREATED:20260423T074546Z
LAST-MODIFIED:20260423T074546Z
UID:10005043-1778148000-1778173200@juraparkbaltow.pl
SUMMARY:Pakiet kompleksowy
DESCRIPTION:Atrakcje w pakiecie: JuraPark\, Adventure Planet\, Zwierzyniec Bałtowski (dolny+ górny Safari)\, Polska w Miniaturze\, Słowiańskie Wzgórze z Sabatówką\, Park Zabaw\, Rollercoaster\, Kino Cinema 5D\, Bumper Cars\, Jungle Jump\, Prehistoryczne Oceanarium.
URL:https://juraparkbaltow.pl/kalendarz/pakiet-kompleksowy-28/2026-05-07/
CATEGORIES:Pakiet kompleksowy
END:VEVENT
BEGIN:VEVENT
DTSTART;TZID=Europe/Warsaw:20260508T100000
DTEND;TZID=Europe/Warsaw:20260508T170000
DTSTAMP:20260423T165415
CREATED:20260423T074546Z
LAST-MODIFIED:20260423T074546Z
UID:10005044-1778234400-1778259600@juraparkbaltow.pl
SUMMARY:Pakiet kompleksowy
DESCRIPTION:Atrakcje w pakiecie: JuraPark\, Adventure Planet\, Zwierzyniec Bałtowski (dolny+ górny Safari)\, Polska w Miniaturze\, Słowiańskie Wzgórze z Sabatówką\, Park Zabaw\, Rollercoaster\, Kino Cinema 5D\, Bumper Cars\, Jungle Jump\, Prehistoryczne Oceanarium.
URL:https://juraparkbaltow.pl/kalendarz/pakiet-kompleksowy-28/2026-05-08/
CATEGORIES:Pakiet kompleksowy
END:VEVENT
BEGIN:VEVENT
DTSTART;TZID=Europe/Warsaw:20260509T100000
DTEND;TZID=Europe/Warsaw:20260509T170000
DTSTAMP:20260423T165415
CREATED:20260423T074546Z
LAST-MODIFIED:20260423T074546Z
UID:10005045-1778320800-1778346000@juraparkbaltow.pl
SUMMARY:Pakiet kompleksowy
DESCRIPTION:Atrakcje w pakiecie: JuraPark\, Adventure Planet\, Zwierzyniec Bałtowski (dolny+ górny Safari)\, Polska w Miniaturze\, Słowiańskie Wzgórze z Sabatówką\, Park Zabaw\, Rollercoaster\, Kino Cinema 5D\, Bumper Cars\, Jungle Jump\, Prehistoryczne Oceanarium.
URL:https://juraparkbaltow.pl/kalendarz/pakiet-kompleksowy-28/2026-05-09/
CATEGORIES:Pakiet kompleksowy
END:VEVENT
BEGIN:VEVENT
DTSTART;TZID=Europe/Warsaw:20260510T100000
DTEND;TZID=Europe/Warsaw:20260510T170000
DTSTAMP:20260423T165415
CREATED:20260423T074546Z
LAST-MODIFIED:20260423T074546Z
UID:10005046-1778407200-1778432400@juraparkbaltow.pl
SUMMARY:Pakiet kompleksowy
DESCRIPTION:Atrakcje w pakiecie: JuraPark\, Adventure Planet\, Zwierzyniec Bałtowski (dolny+ górny Safari)\, Polska w Miniaturze\, Słowiańskie Wzgórze z Sabatówką\, Park Zabaw\, Rollercoaster\, Kino Cinema 5D\, Bumper Cars\, Jungle Jump\, Prehistoryczne Oceanarium.
URL:https://juraparkbaltow.pl/kalendarz/pakiet-kompleksowy-28/2026-05-10/
CATEGORIES:Pakiet kompleksowy
END:VEVENT
BEGIN:VEVENT
DTSTART;TZID=Europe/Warsaw:20260511T100000
DTEND;TZID=Europe/Warsaw:20260511T170000
DTSTAMP:20260423T165415
CREATED:20260423T074546Z
LAST-MODIFIED:20260423T074546Z
UID:10005047-1778493600-1778518800@juraparkbaltow.pl
SUMMARY:Pakiet kompleksowy
DESCRIPTION:Atrakcje w pakiecie: JuraPark\, Adventure Planet\, Zwierzyniec Bałtowski (dolny+ górny Safari)\, Polska w Miniaturze\, Słowiańskie Wzgórze z Sabatówką\, Park Zabaw\, Rollercoaster\, Kino Cinema 5D\, Bumper Cars\, Jungle Jump\, Prehistoryczne Oceanarium.
URL:https://juraparkbaltow.pl/kalendarz/pakiet-kompleksowy-28/2026-05-11/
CATEGORIES:Pakiet kompleksowy
END:VEVENT
BEGIN:VEVENT
DTSTART;TZID=Europe/Warsaw:20260512T100000
DTEND;TZID=Europe/Warsaw:20260512T170000
DTSTAMP:20260423T165415
CREATED:20260423T074546Z
LAST-MODIFIED:20260423T074546Z
UID:10005048-1778580000-1778605200@juraparkbaltow.pl
SUMMARY:Pakiet kompleksowy
DESCRIPTION:Atrakcje w pakiecie: JuraPark\, Adventure Planet\, Zwierzyniec Bałtowski (dolny+ górny Safari)\, Polska w Miniaturze\, Słowiańskie Wzgórze z Sabatówką\, Park Zabaw\, Rollercoaster\, Kino Cinema 5D\, Bumper Cars\, Jungle Jump\, Prehistoryczne Oceanarium.
URL:https://juraparkbaltow.pl/kalendarz/pakiet-kompleksowy-28/2026-05-12/
CATEGORIES:Pakiet kompleksowy
END:VEVENT
BEGIN:VEVENT
DTSTART;TZID=Europe/Warsaw:20260513T100000
DTEND;TZID=Europe/Warsaw:20260513T170000
DTSTAMP:20260423T165415
CREATED:20260423T074546Z
LAST-MODIFIED:20260423T074546Z
UID:10005049-1778666400-1778691600@juraparkbaltow.pl
SUMMARY:Pakiet kompleksowy
DESCRIPTION:Atrakcje w pakiecie: JuraPark\, Adventure Planet\, Zwierzyniec Bałtowski (dolny+ górny Safari)\, Polska w Miniaturze\, Słowiańskie Wzgórze z Sabatówką\, Park Zabaw\, Rollercoaster\, Kino Cinema 5D\, Bumper Cars\, Jungle Jump\, Prehistoryczne Oceanarium.
URL:https://juraparkbaltow.pl/kalendarz/pakiet-kompleksowy-28/2026-05-13/
CATEGORIES:Pakiet kompleksowy
END:VEVENT
BEGIN:VEVENT
DTSTART;TZID=Europe/Warsaw:20260514T100000
DTEND;TZID=Europe/Warsaw:20260514T170000
DTSTAMP:20260423T165415
CREATED:20260423T074546Z
LAST-MODIFIED:20260423T074546Z
UID:10005050-1778752800-1778778000@juraparkbaltow.pl
SUMMARY:Pakiet kompleksowy
DESCRIPTION:Atrakcje w pakiecie: JuraPark\, Adventure Planet\, Zwierzyniec Bałtowski (dolny+ górny Safari)\, Polska w Miniaturze\, Słowiańskie Wzgórze z Sabatówką\, Park Zabaw\, Rollercoaster\, Kino Cinema 5D\, Bumper Cars\, Jungle Jump\, Prehistoryczne Oceanarium.
URL:https://juraparkbaltow.pl/kalendarz/pakiet-kompleksowy-28/2026-05-14/
CATEGORIES:Pakiet kompleksowy
END:VEVENT
BEGIN:VEVENT
DTSTART;TZID=Europe/Warsaw:20260515T100000
DTEND;TZID=Europe/Warsaw:20260515T170000
DTSTAMP:20260423T165415
CREATED:20260423T074546Z
LAST-MODIFIED:20260423T074546Z
UID:10005051-1778839200-1778864400@juraparkbaltow.pl
SUMMARY:Pakiet kompleksowy
DESCRIPTION:Atrakcje w pakiecie: JuraPark\, Adventure Planet\, Zwierzyniec Bałtowski (dolny+ górny Safari)\, Polska w Miniaturze\, Słowiańskie Wzgórze z Sabatówką\, Park Zabaw\, Rollercoaster\, Kino Cinema 5D\, Bumper Cars\, Jungle Jump\, Prehistoryczne Oceanarium.
URL:https://juraparkbaltow.pl/kalendarz/pakiet-kompleksowy-28/2026-05-15/
CATEGORIES:Pakiet kompleksowy
END:VEVENT
BEGIN:VEVENT
DTSTART;TZID=Europe/Warsaw:20260516T100000
DTEND;TZID=Europe/Warsaw:20260516T170000
DTSTAMP:20260423T165415
CREATED:20260423T074546Z
LAST-MODIFIED:20260423T074546Z
UID:10005052-1778925600-1778950800@juraparkbaltow.pl
SUMMARY:Pakiet kompleksowy
DESCRIPTION:Atrakcje w pakiecie: JuraPark\, Adventure Planet\, Zwierzyniec Bałtowski (dolny+ górny Safari)\, Polska w Miniaturze\, Słowiańskie Wzgórze z Sabatówką\, Park Zabaw\, Rollercoaster\, Kino Cinema 5D\, Bumper Cars\, Jungle Jump\, Prehistoryczne Oceanarium.
URL:https://juraparkbaltow.pl/kalendarz/pakiet-kompleksowy-28/2026-05-16/
CATEGORIES:Pakiet kompleksowy
END:VEVENT
BEGIN:VEVENT
DTSTART;TZID=Europe/Warsaw:20260517T100000
DTEND;TZID=Europe/Warsaw:20260517T170000
DTSTAMP:20260423T165415
CREATED:20260423T074546Z
LAST-MODIFIED:20260423T074546Z
UID:10005053-1779012000-1779037200@juraparkbaltow.pl
SUMMARY:Pakiet kompleksowy
DESCRIPTION:Atrakcje w pakiecie: JuraPark\, Adventure Planet\, Zwierzyniec Bałtowski (dolny+ górny Safari)\, Polska w Miniaturze\, Słowiańskie Wzgórze z Sabatówką\, Park Zabaw\, Rollercoaster\, Kino Cinema 5D\, Bumper Cars\, Jungle Jump\, Prehistoryczne Oceanarium.
URL:https://juraparkbaltow.pl/kalendarz/pakiet-kompleksowy-28/2026-05-17/
CATEGORIES:Pakiet kompleksowy
END:VEVENT
BEGIN:VEVENT
DTSTART;TZID=Europe/Warsaw:20260518T100000
DTEND;TZID=Europe/Warsaw:20260518T170000
DTSTAMP:20260423T165415
CREATED:20260423T074546Z
LAST-MODIFIED:20260423T074546Z
UID:10005054-1779098400-1779123600@juraparkbaltow.pl
SUMMARY:Pakiet kompleksowy
DESCRIPTION:Atrakcje w pakiecie: JuraPark\, Adventure Planet\, Zwierzyniec Bałtowski (dolny+ górny Safari)\, Polska w Miniaturze\, Słowiańskie Wzgórze z Sabatówką\, Park Zabaw\, Rollercoaster\, Kino Cinema 5D\, Bumper Cars\, Jungle Jump\, Prehistoryczne Oceanarium.
URL:https://juraparkbaltow.pl/kalendarz/pakiet-kompleksowy-28/2026-05-18/
CATEGORIES:Pakiet kompleksowy
END:VEVENT
BEGIN:VEVENT
DTSTART;TZID=Europe/Warsaw:20260519T100000
DTEND;TZID=Europe/Warsaw:20260519T170000
DTSTAMP:20260423T165415
CREATED:20260423T074546Z
LAST-MODIFIED:20260423T074546Z
UID:10005055-1779184800-1779210000@juraparkbaltow.pl
SUMMARY:Pakiet kompleksowy
DESCRIPTION:Atrakcje w pakiecie: JuraPark\, Adventure Planet\, Zwierzyniec Bałtowski (dolny+ górny Safari)\, Polska w Miniaturze\, Słowiańskie Wzgórze z Sabatówką\, Park Zabaw\, Rollercoaster\, Kino Cinema 5D\, Bumper Cars\, Jungle Jump\, Prehistoryczne Oceanarium.
URL:https://juraparkbaltow.pl/kalendarz/pakiet-kompleksowy-28/2026-05-19/
CATEGORIES:Pakiet kompleksowy
END:VEVENT
BEGIN:VEVENT
DTSTART;TZID=Europe/Warsaw:20260520T100000
DTEND;TZID=Europe/Warsaw:20260520T170000
DTSTAMP:20260423T165415
CREATED:20260423T074546Z
LAST-MODIFIED:20260423T074546Z
UID:10005056-1779271200-1779296400@juraparkbaltow.pl
SUMMARY:Pakiet kompleksowy
DESCRIPTION:Atrakcje w pakiecie: JuraPark\, Adventure Planet\, Zwierzyniec Bałtowski (dolny+ górny Safari)\, Polska w Miniaturze\, Słowiańskie Wzgórze z Sabatówką\, Park Zabaw\, Rollercoaster\, Kino Cinema 5D\, Bumper Cars\, Jungle Jump\, Prehistoryczne Oceanarium.
URL:https://juraparkbaltow.pl/kalendarz/pakiet-kompleksowy-28/2026-05-20/
CATEGORIES:Pakiet kompleksowy
END:VEVENT
BEGIN:VEVENT
DTSTART;TZID=Europe/Warsaw:20260521T100000
DTEND;TZID=Europe/Warsaw:20260521T170000
DTSTAMP:20260423T165415
CREATED:20260423T074546Z
LAST-MODIFIED:20260423T074546Z
UID:10005057-1779357600-1779382800@juraparkbaltow.pl
SUMMARY:Pakiet kompleksowy
DESCRIPTION:Atrakcje w pakiecie: JuraPark\, Adventure Planet\, Zwierzyniec Bałtowski (dolny+ górny Safari)\, Polska w Miniaturze\, Słowiańskie Wzgórze z Sabatówką\, Park Zabaw\, Rollercoaster\, Kino Cinema 5D\, Bumper Cars\, Jungle Jump\, Prehistoryczne Oceanarium.
URL:https://juraparkbaltow.pl/kalendarz/pakiet-kompleksowy-28/2026-05-21/
CATEGORIES:Pakiet kompleksowy
END:VEVENT
BEGIN:VEVENT
DTSTART;TZID=Europe/Warsaw:20260522T100000
DTEND;TZID=Europe/Warsaw:20260522T170000
DTSTAMP:20260423T165415
CREATED:20260423T074546Z
LAST-MODIFIED:20260423T074546Z
UID:10005058-1779444000-1779469200@juraparkbaltow.pl
SUMMARY:Pakiet kompleksowy
DESCRIPTION:Atrakcje w pakiecie: JuraPark\, Adventure Planet\, Zwierzyniec Bałtowski (dolny+ górny Safari)\, Polska w Miniaturze\, Słowiańskie Wzgórze z Sabatówką\, Park Zabaw\, Rollercoaster\, Kino Cinema 5D\, Bumper Cars\, Jungle Jump\, Prehistoryczne Oceanarium.
URL:https://juraparkbaltow.pl/kalendarz/pakiet-kompleksowy-28/2026-05-22/
CATEGORIES:Pakiet kompleksowy
END:VEVENT
BEGIN:VEVENT
DTSTART;TZID=Europe/Warsaw:20260523T100000
DTEND;TZID=Europe/Warsaw:20260523T170000
DTSTAMP:20260423T165415
CREATED:20260423T074546Z
LAST-MODIFIED:20260423T074546Z
UID:10005059-1779530400-1779555600@juraparkbaltow.pl
SUMMARY:Pakiet kompleksowy
DESCRIPTION:Atrakcje w pakiecie: JuraPark\, Adventure Planet\, Zwierzyniec Bałtowski (dolny+ górny Safari)\, Polska w Miniaturze\, Słowiańskie Wzgórze z Sabatówką\, Park Zabaw\, Rollercoaster\, Kino Cinema 5D\, Bumper Cars\, Jungle Jump\, Prehistoryczne Oceanarium.
URL:https://juraparkbaltow.pl/kalendarz/pakiet-kompleksowy-28/2026-05-23/
CATEGORIES:Pakiet kompleksowy
END:VEVENT
BEGIN:VEVENT
DTSTART;TZID=Europe/Warsaw:20260524T100000
DTEND;TZID=Europe/Warsaw:20260524T170000
DTSTAMP:20260423T165415
CREATED:20260423T074546Z
LAST-MODIFIED:20260423T074546Z
UID:10005060-1779616800-1779642000@juraparkbaltow.pl
SUMMARY:Pakiet kompleksowy
DESCRIPTION:Atrakcje w pakiecie: JuraPark\, Adventure Planet\, Zwierzyniec Bałtowski (dolny+ górny Safari)\, Polska w Miniaturze\, Słowiańskie Wzgórze z Sabatówką\, Park Zabaw\, Rollercoaster\, Kino Cinema 5D\, Bumper Cars\, Jungle Jump\, Prehistoryczne Oceanarium.
URL:https://juraparkbaltow.pl/kalendarz/pakiet-kompleksowy-28/2026-05-24/
CATEGORIES:Pakiet kompleksowy
END:VEVENT
BEGIN:VEVENT
DTSTART;TZID=Europe/Warsaw:20260525T100000
DTEND;TZID=Europe/Warsaw:20260525T170000
DTSTAMP:20260423T165415
CREATED:20260423T074546Z
LAST-MODIFIED:20260423T074546Z
UID:10005061-1779703200-1779728400@juraparkbaltow.pl
SUMMARY:Pakiet kompleksowy
DESCRIPTION:Atrakcje w pakiecie: JuraPark\, Adventure Planet\, Zwierzyniec Bałtowski (dolny+ górny Safari)\, Polska w Miniaturze\, Słowiańskie Wzgórze z Sabatówką\, Park Zabaw\, Rollercoaster\, Kino Cinema 5D\, Bumper Cars\, Jungle Jump\, Prehistoryczne Oceanarium.
URL:https://juraparkbaltow.pl/kalendarz/pakiet-kompleksowy-28/2026-05-25/
CATEGORIES:Pakiet kompleksowy
END:VEVENT
BEGIN:VEVENT
DTSTART;TZID=Europe/Warsaw:20260526T100000
DTEND;TZID=Europe/Warsaw:20260526T170000
DTSTAMP:20260423T165415
CREATED:20260423T074546Z
LAST-MODIFIED:20260423T074546Z
UID:10005062-1779789600-1779814800@juraparkbaltow.pl
SUMMARY:Pakiet kompleksowy
DESCRIPTION:Atrakcje w pakiecie: JuraPark\, Adventure Planet\, Zwierzyniec Bałtowski (dolny+ górny Safari)\, Polska w Miniaturze\, Słowiańskie Wzgórze z Sabatówką\, Park Zabaw\, Rollercoaster\, Kino Cinema 5D\, Bumper Cars\, Jungle Jump\, Prehistoryczne Oceanarium.
URL:https://juraparkbaltow.pl/kalendarz/pakiet-kompleksowy-28/2026-05-26/
CATEGORIES:Pakiet kompleksowy
END:VEVENT
BEGIN:VEVENT
DTSTART;TZID=Europe/Warsaw:20260527T100000
DTEND;TZID=Europe/Warsaw:20260527T170000
DTSTAMP:20260423T165415
CREATED:20260423T074546Z
LAST-MODIFIED:20260423T074546Z
UID:10005063-1779876000-1779901200@juraparkbaltow.pl
SUMMARY:Pakiet kompleksowy
DESCRIPTION:Atrakcje w pakiecie: JuraPark\, Adventure Planet\, Zwierzyniec Bałtowski (dolny+ górny Safari)\, Polska w Miniaturze\, Słowiańskie Wzgórze z Sabatówką\, Park Zabaw\, Rollercoaster\, Kino Cinema 5D\, Bumper Cars\, Jungle Jump\, Prehistoryczne Oceanarium.
URL:https://juraparkbaltow.pl/kalendarz/pakiet-kompleksowy-28/2026-05-27/
CATEGORIES:Pakiet kompleksowy
END:VEVENT
BEGIN:VEVENT
DTSTART;TZID=Europe/Warsaw:20260528T100000
DTEND;TZID=Europe/Warsaw:20260528T170000
DTSTAMP:20260423T165415
CREATED:20260423T074546Z
LAST-MODIFIED:20260423T074546Z
UID:10005064-1779962400-1779987600@juraparkbaltow.pl
SUMMARY:Pakiet kompleksowy
DESCRIPTION:Atrakcje w pakiecie: JuraPark\, Adventure Planet\, Zwierzyniec Bałtowski (dolny+ górny Safari)\, Polska w Miniaturze\, Słowiańskie Wzgórze z Sabatówką\, Park Zabaw\, Rollercoaster\, Kino Cinema 5D\, Bumper Cars\, Jungle Jump\, Prehistoryczne Oceanarium.
URL:https://juraparkbaltow.pl/kalendarz/pakiet-kompleksowy-28/2026-05-28/
CATEGORIES:Pakiet kompleksowy
END:VEVENT
BEGIN:VEVENT
DTSTART;TZID=Europe/Warsaw:20260529T100000
DTEND;TZID=Europe/Warsaw:20260529T170000
DTSTAMP:20260423T165415
CREATED:20260423T074546Z
LAST-MODIFIED:20260423T074546Z
UID:10005065-1780048800-1780074000@juraparkbaltow.pl
SUMMARY:Pakiet kompleksowy
DESCRIPTION:Atrakcje w pakiecie: JuraPark\, Adventure Planet\, Zwierzyniec Bałtowski (dolny+ górny Safari)\, Polska w Miniaturze\, Słowiańskie Wzgórze z Sabatówką\, Park Zabaw\, Rollercoaster\, Kino Cinema 5D\, Bumper Cars\, Jungle Jump\, Prehistoryczne Oceanarium.
URL:https://juraparkbaltow.pl/kalendarz/pakiet-kompleksowy-28/2026-05-29/
CATEGORIES:Pakiet kompleksowy
END:VEVENT
BEGIN:VEVENT
DTSTART;TZID=Europe/Warsaw:20260530T100000
DTEND;TZID=Europe/Warsaw:20260530T170000
DTSTAMP:20260423T165415
CREATED:20260423T074546Z
LAST-MODIFIED:20260423T074546Z
UID:10005066-1780135200-1780160400@juraparkbaltow.pl
SUMMARY:Pakiet kompleksowy
DESCRIPTION:Atrakcje w pakiecie: JuraPark\, Adventure Planet\, Zwierzyniec Bałtowski (dolny+ górny Safari)\, Polska w Miniaturze\, Słowiańskie Wzgórze z Sabatówką\, Park Zabaw\, Rollercoaster\, Kino Cinema 5D\, Bumper Cars\, Jungle Jump\, Prehistoryczne Oceanarium.
URL:https://juraparkbaltow.pl/kalendarz/pakiet-kompleksowy-28/2026-05-30/
CATEGORIES:Pakiet kompleksowy
END:VEVENT
BEGIN:VEVENT
DTSTART;TZID=Europe/Warsaw:20260531T100000
DTEND;TZID=Europe/Warsaw:20260531T170000
DTSTAMP:20260423T165415
CREATED:20260423T074546Z
LAST-MODIFIED:20260423T074546Z
UID:10005067-1780221600-1780246800@juraparkbaltow.pl
SUMMARY:Pakiet kompleksowy
DESCRIPTION:Atrakcje w pakiecie: JuraPark\, Adventure Planet\, Zwierzyniec Bałtowski (dolny+ górny Safari)\, Polska w Miniaturze\, Słowiańskie Wzgórze z Sabatówką\, Park Zabaw\, Rollercoaster\, Kino Cinema 5D\, Bumper Cars\, Jungle Jump\, Prehistoryczne Oceanarium.
URL:https://juraparkbaltow.pl/kalendarz/pakiet-kompleksowy-28/2026-05-31/
CATEGORIES:Pakiet kompleksowy
END:VEVENT
BEGIN:VEVENT
DTSTART;TZID=Europe/Warsaw:20260601T100000
DTEND;TZID=Europe/Warsaw:20260601T170000
DTSTAMP:20260423T165415
CREATED:20260423T074546Z
LAST-MODIFIED:20260423T074546Z
UID:10005068-1780308000-1780333200@juraparkbaltow.pl
SUMMARY:Pakiet kompleksowy
DESCRIPTION:Atrakcje w pakiecie: JuraPark\, Adventure Planet\, Zwierzyniec Bałtowski (dolny+ górny Safari)\, Polska w Miniaturze\, Słowiańskie Wzgórze z Sabatówką\, Park Zabaw\, Rollercoaster\, Kino Cinema 5D\, Bumper Cars\, Jungle Jump\, Prehistoryczne Oceanarium.
URL:https://juraparkbaltow.pl/kalendarz/pakiet-kompleksowy-28/2026-06-01/
CATEGORIES:Pakiet kompleksowy
END:VEVENT
BEGIN:VEVENT
DTSTART;TZID=Europe/Warsaw:20260602T100000
DTEND;TZID=Europe/Warsaw:20260602T170000
DTSTAMP:20260423T165415
CREATED:20260423T074546Z
LAST-MODIFIED:20260423T074546Z
UID:10005069-1780394400-1780419600@juraparkbaltow.pl
SUMMARY:Pakiet kompleksowy
DESCRIPTION:Atrakcje w pakiecie: JuraPark\, Adventure Planet\, Zwierzyniec Bałtowski (dolny+ górny Safari)\, Polska w Miniaturze\, Słowiańskie Wzgórze z Sabatówką\, Park Zabaw\, Rollercoaster\, Kino Cinema 5D\, Bumper Cars\, Jungle Jump\, Prehistoryczne Oceanarium.
URL:https://juraparkbaltow.pl/kalendarz/pakiet-kompleksowy-28/2026-06-02/
CATEGORIES:Pakiet kompleksowy
END:VEVENT
END:VCALENDAR