BEGIN:VCALENDAR
VERSION:2.0
PRODID:-//Bałtowski Kompleks Turystyczny - ECPv6.15.20//NONSGML v1.0//EN
CALSCALE:GREGORIAN
METHOD:PUBLISH
X-ORIGINAL-URL:https://juraparkbaltow.pl
X-WR-CALDESC:Wydarzenia dla Bałtowski Kompleks Turystyczny
REFRESH-INTERVAL;VALUE=DURATION:PT1H
X-Robots-Tag:noindex
X-PUBLISHED-TTL:PT1H
BEGIN:VTIMEZONE
TZID:Europe/Warsaw
BEGIN:DAYLIGHT
TZOFFSETFROM:+0100
TZOFFSETTO:+0200
TZNAME:CEST
DTSTART:20210328T010000
END:DAYLIGHT
BEGIN:STANDARD
TZOFFSETFROM:+0200
TZOFFSETTO:+0100
TZNAME:CET
DTSTART:20211031T010000
END:STANDARD
BEGIN:DAYLIGHT
TZOFFSETFROM:+0100
TZOFFSETTO:+0200
TZNAME:CEST
DTSTART:20220327T010000
END:DAYLIGHT
BEGIN:STANDARD
TZOFFSETFROM:+0200
TZOFFSETTO:+0100
TZNAME:CET
DTSTART:20221030T010000
END:STANDARD
BEGIN:DAYLIGHT
TZOFFSETFROM:+0100
TZOFFSETTO:+0200
TZNAME:CEST
DTSTART:20230326T010000
END:DAYLIGHT
BEGIN:STANDARD
TZOFFSETFROM:+0200
TZOFFSETTO:+0100
TZNAME:CET
DTSTART:20231029T010000
END:STANDARD
END:VTIMEZONE
BEGIN:VEVENT
DTSTART;VALUE=DATE:20220528
DTEND;VALUE=DATE:20220530
DTSTAMP:20260421T090644
CREATED:20220519T120849Z
LAST-MODIFIED:20220525T130241Z
UID:10000504-1653696000-1653868799@juraparkbaltow.pl
SUMMARY:Dzień Dziecka Pełen Przygód
DESCRIPTION:Już 28 i 29 maja na terenie Bałtowskiego Kompleksu Turystycznego odbędzie się Dzień Dziecka! To będzie wspaniały czas\, pełen zabaw i magii. Zapraszamy do Bałtowa. Już możesz kupić bilet online! \n Kup bilet online \nPrzygoda\, zabawa\, odkrywanie świata\nW Bałtowskim Kompleksie Turystycznym to wszystko staje się faktem. Na gości czeka moc atrakcji\, które dostępne są w jednym miejscu. Jakie atrakcje czekają na wszystkich przybyłych gości? \nŚcieżka dinozaurów — to punkt bez\, którego wycieczka w Bałtowie nie może się odbyć! Powrót do prehistorii\, odkrywanie bałtowskich zakamarków może stać się jeszcze ciekawsze jeśli udacie się na warsztaty paleontologiczne z naszym „Bałtowskim Indiana Jonesem”. Stacjonuje on na Gondwanie\, tam opowie o skamieniałościach\, z pewnością poznacie wiele ciekawostek o pradawnych stworach. \nOko w oko z dinozaurem! Odwiedzając JuraPark przygotujcie się na spotkanie z prawdziwym prehistorycznym stworem – T-Rex\, Diplodok a może Triceratops? Który dinozaur będzie spacerował ścieżkami juraparku? Czy to nie najlepszy pomysł na Dzień Dziecka dla małego fana dinozaurów? \n \nPokazy akrobatyczne i animacje\n29 maja na terenie Parku Rozrywki odbędą się pokazy akrobatyki powietrznej. Po raz kolejny wystąpi grupa — Przestrzeń Lotu. To widowiskowy pokaz\, który z pewnością Was zachwyci! Prezentacje odbędą się w godzinach 12:00\, 14:00\, 16:00 i będą trwać 15 minut\, dlatego pamiętajcie o punktualności. \nMalowanie twarzy\, kolorowe warkoczyki\, balony\, tatuaże\, gry i zabawy — będzie kolorowo i muzycznie. Nasi animatorzy przygotowali wiele niespodzianek. Sprawią\, że Wasz pobyt w Bałtowie będzie niezapomniany!  Na terenie kompleksu pojawią się szczudlarze oraz niezastąpione maskotki!\nNie zapomnijcie przybić piątki z naszym Jurasiem\, nie ominie Was spotkanie z  króliczkiem\, czy szaloną Wiewiórką. Koniecznie zróbcie sobie pamiątkowe zdjęcie. \n\n		\n		\n			\n				\n			\n			\n				\n			\n			\n				\n			\n		\n\nW Bałtowie możecie zobaczyć wiele zwierzątek\, które niedawno przyszły na świat. Obok Zwierzyńca dolnego odbędą się Warsztaty „Poznaj i przytul”\, gdzie będziecie mogli z bliska zobaczyć te cudowne stworzenia. Czeka Was także spotkanie z pełzającymi gadami!\nJeśli nigdy nie spotkaliście stada jeleni lub chcecie zobaczyć\, jak żyją słynne bałtowskie żubry — zapraszamy na wycieczkę amerykańskim schoolbusem. To wspaniała przygoda\, po bałtowskim safari. Wyprawa w towarzystwie przewodnika sprawi\, że zapamiętacie ją na długie lata. Nasze zwierzęta czekają na gości i z chęcią wychodzą na spotkanie. \n\n		\n		\n			\n				\n			\n			\n				\n			\n			\n				\n			\n		\n\nMagiczne Sztuczki i Emocje\nNie zapomnijcie odwiedzić naszej Wioski Czarownic\, to tutaj nierzeczywiste przeplata się z realnym. Czarownica Hogata sprawdza waszą odwagę\, zwinność oraz siłę. Przygotowała wiele zabaw — koło fortuny sprawdzi wasze umiejętności zapamiętywania oraz śpiewania. Zadanie musi zostać wykonane! \nMera i Nutka przygotowały bańki ogniowe na dłoni oraz bańki mydlane. Nasze czarownice znają się na urodzie i ziołolecznictwie\, dlatego z pewnością podzielą się z Wami swoimi sekretami. Kto wie może uda Wam się razem z nimi stworzyć „magiczny” eliksir na urodę! \nWszystkich spragnionych mocnych wrażeń zapraszamy do naszego Parku Rozrywki\, gdzie czekają karuzele\, salon gier\, basen kulkowy\, statek piracki\, trampoliny i wiele innych urządzeń. Będąc w Bałtowie wszystkich o mocnych nerwach\, zapraszamy na sens pt. „Dino Safari” w Kinie 5D. \nPrzypominamy\, że na terenie Bałtowskiego Kompleksu Turystycznego mieści się kolejka górska — Rollercoaster\, która zapewni odpowiednią dawkę adrenaliny\, także dorosłym. \n 
URL:https://juraparkbaltow.pl/kalendarz/dzien-dziecka-pelen-przygod/
LOCATION:Bałtowski Kompleks Turystyczny\, Bałtów 8a\, Bałtów\, świętokrzyskie\, 27-423\, Polska
ATTACH;FMTTYPE=image/png:https://juraparkbaltow.pl/wp-content/uploads/2022/05/29.04.22_BKT_Dzien-Dziecka_1920x1080.png
END:VEVENT
END:VCALENDAR