BEGIN:VCALENDAR
VERSION:2.0
PRODID:-//Bałtowski Kompleks Turystyczny - ECPv6.15.20//NONSGML v1.0//EN
CALSCALE:GREGORIAN
METHOD:PUBLISH
X-WR-CALNAME:Bałtowski Kompleks Turystyczny
X-ORIGINAL-URL:https://juraparkbaltow.pl
X-WR-CALDESC:Wydarzenia dla Bałtowski Kompleks Turystyczny
REFRESH-INTERVAL;VALUE=DURATION:PT1H
X-Robots-Tag:noindex
X-PUBLISHED-TTL:PT1H
BEGIN:VTIMEZONE
TZID:Europe/Warsaw
BEGIN:DAYLIGHT
TZOFFSETFROM:+0100
TZOFFSETTO:+0200
TZNAME:CEST
DTSTART:20210328T010000
END:DAYLIGHT
BEGIN:STANDARD
TZOFFSETFROM:+0200
TZOFFSETTO:+0100
TZNAME:CET
DTSTART:20211031T010000
END:STANDARD
BEGIN:DAYLIGHT
TZOFFSETFROM:+0100
TZOFFSETTO:+0200
TZNAME:CEST
DTSTART:20220327T010000
END:DAYLIGHT
BEGIN:STANDARD
TZOFFSETFROM:+0200
TZOFFSETTO:+0100
TZNAME:CET
DTSTART:20221030T010000
END:STANDARD
BEGIN:DAYLIGHT
TZOFFSETFROM:+0100
TZOFFSETTO:+0200
TZNAME:CEST
DTSTART:20230326T010000
END:DAYLIGHT
BEGIN:STANDARD
TZOFFSETFROM:+0200
TZOFFSETTO:+0100
TZNAME:CET
DTSTART:20231029T010000
END:STANDARD
END:VTIMEZONE
BEGIN:VEVENT
DTSTART;VALUE=DATE:20220527
DTEND;VALUE=DATE:20220530
DTSTAMP:20260422T131159
CREATED:20220519T132355Z
LAST-MODIFIED:20220520T105509Z
UID:10000505-1653609600-1653868799@juraparkbaltow.pl
SUMMARY:Zlot Camperów - X Piknik Rodzinny
DESCRIPTION:Jesteś miłośnikiem camperów lub myślisz o jego zakupie? Już w dniach 27-29 maja na terenie Bałtowskiego Kompleksu Turystycznego odbędzie się ZLOT CAMPERÓW -X PIKNIK RODZINNY CamperTeam połączony z XIII Zlotem CamperMajstrów. \nTo już kolejny zlot\, który odbywa się na terenie naszego pola namiotowego. Cieszymy się\, że nasze miejsce\, teren i otoczenie urzekło miłośników caravaningu. „Dom na kółkach” to coraz częściej wykorzystywana forma podróżowania w szczególności dla rodzin z dziećmi! Dlatego\, jeśli chcesz dowiedzieć się\, jak wygląda podróżowanie camperem\, przyjedź do Bałtowa i zobacz! \nKoszt Pikniki – 250 zł (załoga 3-osobowa);  \nKażda kolejna osoba – 30 zł \n\nLiczba miejsc ograniczona – 200 załóg\n\nUwaga!!\nZAPISY NA PIKNIK ZAKOŃCZONE\nW przypadku wolnych miejsc opłata w Biurze Zlotu + 30 zł.\n\n\n\n REGULAMIN ZLOTU \n\n 
URL:https://juraparkbaltow.pl/kalendarz/zlot-camperow-x-piknik-rodzinny/
LOCATION:Bałtowski Kompleks Turystyczny\, Bałtów 8a\, Bałtów\, świętokrzyskie\, 27-423\, Polska
ATTACH;FMTTYPE=image/jpeg:https://juraparkbaltow.pl/wp-content/uploads/2022/05/gRAFIK-zLOT-cAMPEROW.jpg
END:VEVENT
END:VCALENDAR