BEGIN:VCALENDAR
VERSION:2.0
PRODID:-//Bałtowski Kompleks Turystyczny - ECPv6.15.20//NONSGML v1.0//EN
CALSCALE:GREGORIAN
METHOD:PUBLISH
X-ORIGINAL-URL:https://juraparkbaltow.pl
X-WR-CALDESC:Wydarzenia dla Bałtowski Kompleks Turystyczny
REFRESH-INTERVAL;VALUE=DURATION:PT1H
X-Robots-Tag:noindex
X-PUBLISHED-TTL:PT1H
BEGIN:VTIMEZONE
TZID:Europe/Warsaw
BEGIN:DAYLIGHT
TZOFFSETFROM:+0100
TZOFFSETTO:+0200
TZNAME:CEST
DTSTART:20180325T010000
END:DAYLIGHT
BEGIN:STANDARD
TZOFFSETFROM:+0200
TZOFFSETTO:+0100
TZNAME:CET
DTSTART:20181028T010000
END:STANDARD
BEGIN:DAYLIGHT
TZOFFSETFROM:+0100
TZOFFSETTO:+0200
TZNAME:CEST
DTSTART:20190331T010000
END:DAYLIGHT
BEGIN:STANDARD
TZOFFSETFROM:+0200
TZOFFSETTO:+0100
TZNAME:CET
DTSTART:20191027T010000
END:STANDARD
BEGIN:DAYLIGHT
TZOFFSETFROM:+0100
TZOFFSETTO:+0200
TZNAME:CEST
DTSTART:20200329T010000
END:DAYLIGHT
BEGIN:STANDARD
TZOFFSETFROM:+0200
TZOFFSETTO:+0100
TZNAME:CET
DTSTART:20201025T010000
END:STANDARD
END:VTIMEZONE
BEGIN:VEVENT
DTSTART;TZID=Europe/Warsaw:20190111T120000
DTEND;TZID=Europe/Warsaw:20190113T120000
DTSTAMP:20260424T133412
CREATED:20190103T131643Z
LAST-MODIFIED:20220405T074151Z
UID:10000428-1547208000-1547380800@juraparkbaltow.pl
SUMMARY:II Bałtowska Zimowa Fiesta Balonowa
DESCRIPTION:W drugi weekend stycznia zapraszamy na wyjątkowe wydarzenie\, jakim będzie II Bałtowska Zimowa Fiesta Balonowa!\nPatronat nad imprezą objęli: Aeroklub Warszawski\, TVP Kielce\, Radio Kielce\, Cityboard Media. \nW programie zaplanowane są 4 loty:\npiątek – godz. 14:30\nsobota – godz. 8:00 oraz 14:30\nniedziela – godz. 8:00\n* loty oraz ich godziny uzależnione są od warunków atmosferycznych\, w związku z tym kolejność wydarzeń może ulec zmianie! \nW tych dniach niebo nad Bałtowem będzie przepełnione kolorami! ? \nPodczas Bałtowskiej Zimowej Fiesty Balonowej jest możliwość wykupienia lotu balonem\, zainteresowanych prosimy o kontakt pod nr telefonu 605 322 331 lub mailowo bbanasz@wp.pl \nPo więcej informacji zapraszamy na oficjalną stronę wydarzenia http://fiestybalonowe.pl \nJeśli jesteście zainteresowani tym jak było u nas w zeszłym roku podczas BZFB to zapraszamy na:\nhttp://balonybaltow.pl/\nhttps://www.facebook.com/events/1916773811969629/ \n \nChcecie zobaczyć jak to wyglądało w ubiegłym roku? Koniecznie obejrzyjcie poniższy filmik: \n \nChciałbyś wygrać lot balonem? Dajemy Ci taką możliwość! \nDowiedz się jak wziąć udział w naszym konkursie klikając w link lub poniższą grafikę – https://bit.ly/2Vs4QrV
URL:https://juraparkbaltow.pl/kalendarz/ii-baltowska-zimowa-fiesta-balonowa/
ATTACH;FMTTYPE=image/png:https://juraparkbaltow.pl/wp-content/uploads/2019/01/FIESTA-BALONOWA-2019-Cover.png
END:VEVENT
END:VCALENDAR