BEGIN:VCALENDAR
VERSION:2.0
PRODID:-//Bałtowski Kompleks Turystyczny - ECPv6.15.20//NONSGML v1.0//EN
CALSCALE:GREGORIAN
METHOD:PUBLISH
X-ORIGINAL-URL:https://juraparkbaltow.pl
X-WR-CALDESC:Wydarzenia dla Bałtowski Kompleks Turystyczny
REFRESH-INTERVAL;VALUE=DURATION:PT1H
X-Robots-Tag:noindex
X-PUBLISHED-TTL:PT1H
BEGIN:VTIMEZONE
TZID:Europe/Warsaw
BEGIN:DAYLIGHT
TZOFFSETFROM:+0100
TZOFFSETTO:+0200
TZNAME:CEST
DTSTART:20180325T010000
END:DAYLIGHT
BEGIN:STANDARD
TZOFFSETFROM:+0200
TZOFFSETTO:+0100
TZNAME:CET
DTSTART:20181028T010000
END:STANDARD
BEGIN:DAYLIGHT
TZOFFSETFROM:+0100
TZOFFSETTO:+0200
TZNAME:CEST
DTSTART:20190331T010000
END:DAYLIGHT
BEGIN:STANDARD
TZOFFSETFROM:+0200
TZOFFSETTO:+0100
TZNAME:CET
DTSTART:20191027T010000
END:STANDARD
BEGIN:DAYLIGHT
TZOFFSETFROM:+0100
TZOFFSETTO:+0200
TZNAME:CEST
DTSTART:20200329T010000
END:DAYLIGHT
BEGIN:STANDARD
TZOFFSETFROM:+0200
TZOFFSETTO:+0100
TZNAME:CET
DTSTART:20201025T010000
END:STANDARD
END:VTIMEZONE
BEGIN:VEVENT
DTSTART;TZID=Europe/Warsaw:20190601T100000
DTEND;TZID=Europe/Warsaw:20190602T190000
DTSTAMP:20260422T162750
CREATED:20190306T115912Z
LAST-MODIFIED:20190516T094352Z
UID:10000435-1559383200-1559502000@juraparkbaltow.pl
SUMMARY:Dzień Dziecka w Bałtowie!
DESCRIPTION:Już wkrótce razem będziemy świętować Dzień Dziecka w Bałtowie!\nZapraszamy Was w weekend 1-2 czerwca na wspaniałą\, rodzinną zabawę! Poznaj moc atrakcji na Dzień Dziecka\, które czekają na Was w Bałtowie! 👨‍👩‍👧‍👦🎈 \nCo dla Was przygotowaliśmy?👨‍👩‍👧‍👦\nW JuraParku czekać będą na Was konkursy z wiedzy o dinozaurach (10:00-10:40\, 12:00-12:40\, 14:00-14:40\, 16:00-16:40)\, a dla wszystkich odważnych- spotkanie z żywym dinozaurem! \nNa Gondwanie nie zabraknie spotkania z paleontologiem\, który zdradzi Wam ciekawostki na temat swojej pracy\, a także poprowadzi warsztaty z preparowania skamieniałości (13:00\, 15:00) \nWypatrujcie także stanowiska z okularami VR\, które pozwolą przeżyć Wam niezwykłą przygodę! 😎 \nZwierzyniec Bałtowski to miejsce na spotkanie ze zwierzętami i przyrodą! 🐒🐍 (przy stoku)\n-Warsztaty „poznaj i przytul”- ciekawostki i pokazy zwierząt egzotycznych i domowych godz. 11:00\, 12:30\, 14:00\, 15:30\n-Zwierzęta: surykatki\, papuga\, szynszyle\, jaszczurka agama\, węże czy kury czubatki nie mogą się doczekać spotkania z Wami \nPunktualnie o 14:00 zapraszamy na Wesołą Paradę Bajkowych Postaci\, którą poprowadzi nasza uśmiechnięta czarownica!\nNie zabraknie Jurasia oraz jego przyjaciół\nStart spod Dolnego Zwierzyńca!🎉 \nPark Miniatur – Polska w Miniaturze to miejsce na spotkanie z rycerzem!⚔🏰\nStań z nim oko w oko i przystąp do ceremonii pasowania na rycerza ⚔\n„Historia zaklęta w murach zamku” to niezwykła gra na planszy „Polska w Miniaturze”\, którą znajdziecie tuż przy wejściu do naszej atrakcji🎲😊 Nasz rycerz z przyjemnością wytłumaczy Wam wszystkie jej zasady\, a także- pobawi się razem z Wami 🙂 \nW Sabatówce – Wiosce Słowiańskiej przygotujcie się na ogromną ilość magii!\n– pokazy dla sympatyków „czarodziejskich sztuczek” godz. 13:00\, 15:00\, 17:00\nZagracie tam także w gry bez prądu czy poznacie wierzenia i obrzędy dawnych Słowian. \nW różnych miejscach na terenie naszego kompleksu czekają na Was także zabawy z animatorami\, ogromne bańki mydlane\, malowanie buziek\, pokazy szczudlarskie i wiele niezwykłych atrakcji 🙂 \nWszystkich\, którzy lubią rajdy samochodowe zapraszamy także do kibicowania załogom podczas Bałtowskie Bezdroża Dragon Winch Family 2019! 🚘😊 \nDo zobaczenia w Bałtowie! ♥ \nZachęcamy do dołączania na naszym facebookowym > wydarzeniu <.
URL:https://juraparkbaltow.pl/kalendarz/tworczy-dzien-dziecka-w-baltowie/
LOCATION:Bałtowski Kompleks Turystyczny\, Bałtów 8a\, Bałtów\, świętokrzyskie\, 27-423\, Polska
ATTACH;FMTTYPE=image/jpeg:https://juraparkbaltow.pl/wp-content/uploads/2019/05/Dzień-Dziecka-2019-cover.jpg
ORGANIZER;CN="Ba%C5%82towski Kompleks Turystyczny":MAILTO:rezerwacja.baltow@jurapark.pl
END:VEVENT
END:VCALENDAR