BEGIN:VCALENDAR
VERSION:2.0
PRODID:-//Bałtowski Kompleks Turystyczny - ECPv6.15.20//NONSGML v1.0//EN
CALSCALE:GREGORIAN
METHOD:PUBLISH
X-ORIGINAL-URL:https://juraparkbaltow.pl
X-WR-CALDESC:Wydarzenia dla Bałtowski Kompleks Turystyczny
REFRESH-INTERVAL;VALUE=DURATION:PT1H
X-Robots-Tag:noindex
X-PUBLISHED-TTL:PT1H
BEGIN:VTIMEZONE
TZID:Europe/Warsaw
BEGIN:DAYLIGHT
TZOFFSETFROM:+0100
TZOFFSETTO:+0200
TZNAME:CEST
DTSTART:20210328T010000
END:DAYLIGHT
BEGIN:STANDARD
TZOFFSETFROM:+0200
TZOFFSETTO:+0100
TZNAME:CET
DTSTART:20211031T010000
END:STANDARD
BEGIN:DAYLIGHT
TZOFFSETFROM:+0100
TZOFFSETTO:+0200
TZNAME:CEST
DTSTART:20220327T010000
END:DAYLIGHT
BEGIN:STANDARD
TZOFFSETFROM:+0200
TZOFFSETTO:+0100
TZNAME:CET
DTSTART:20221030T010000
END:STANDARD
BEGIN:DAYLIGHT
TZOFFSETFROM:+0100
TZOFFSETTO:+0200
TZNAME:CEST
DTSTART:20230326T010000
END:DAYLIGHT
BEGIN:STANDARD
TZOFFSETFROM:+0200
TZOFFSETTO:+0100
TZNAME:CET
DTSTART:20231029T010000
END:STANDARD
END:VTIMEZONE
BEGIN:VEVENT
DTSTART;TZID=Europe/Warsaw:20220917T190000
DTEND;TZID=Europe/Warsaw:20220917T220000
DTSTAMP:20260423T001917
CREATED:20220916T080406Z
LAST-MODIFIED:20220916T104531Z
UID:10000530-1663441200-1663452000@juraparkbaltow.pl
SUMMARY:Koncert Zespołu Wheels of Steel Band
DESCRIPTION:Wieczorny koncert i dobra zabawa w Zajeździe Przystocze. 16 września na terenie Bałtowskiego Kompleksu Turystycznego rozpoczyna się II Muzyczny Zlot Camperowych Dinozaurów. Przez cały weekend goście obiektu będą mogli podziwiać różne modele camperów. \nDzieje się w Bałtowie\nPo raz kolejny na terenie obiektu odbędzie się zlot\, jednak to coś więcej niż tylko zlot. To spotkanie przyjaciół\, których łączy wspólna pasja\, do podróżowania camperem i dobrej zabawy. Co\, więcej w sobotę – 17 września na scenie Złamanej deski wystąpi zespół „Wheels of Steel Band”\, który znany jest w regularnych występów na festiwalu — Piknik Country Mrągowo. Wstęp na koncert jest bezpłatny. \nPrzypominamy\, że w Restauracji Browar Bałtów w każdą sobotę zapraszamy na wydarzenie Devil’s Funk\, gdzie usłyszycie przeboje muzyczne Polish Funk prosto z płyt winylowych. Muzyczne brzmienia zapewni światowy Dj – CPT. Sparky. \nWięcej informacji o wydarzeniu Devil’s Funk – TUTAJ. \n \n 
URL:https://juraparkbaltow.pl/kalendarz/koncert-zespolu-wheels-of-steel-band/
LOCATION:Zajazd Przystocze
END:VEVENT
END:VCALENDAR