BEGIN:VCALENDAR
VERSION:2.0
PRODID:-//Bałtowski Kompleks Turystyczny - ECPv6.15.20//NONSGML v1.0//EN
CALSCALE:GREGORIAN
METHOD:PUBLISH
X-ORIGINAL-URL:https://juraparkbaltow.pl
X-WR-CALDESC:Wydarzenia dla Bałtowski Kompleks Turystyczny
REFRESH-INTERVAL;VALUE=DURATION:PT1H
X-Robots-Tag:noindex
X-PUBLISHED-TTL:PT1H
BEGIN:VTIMEZONE
TZID:Europe/Warsaw
BEGIN:DAYLIGHT
TZOFFSETFROM:+0100
TZOFFSETTO:+0200
TZNAME:CEST
DTSTART:20210328T010000
END:DAYLIGHT
BEGIN:STANDARD
TZOFFSETFROM:+0200
TZOFFSETTO:+0100
TZNAME:CET
DTSTART:20211031T010000
END:STANDARD
BEGIN:DAYLIGHT
TZOFFSETFROM:+0100
TZOFFSETTO:+0200
TZNAME:CEST
DTSTART:20220327T010000
END:DAYLIGHT
BEGIN:STANDARD
TZOFFSETFROM:+0200
TZOFFSETTO:+0100
TZNAME:CET
DTSTART:20221030T010000
END:STANDARD
BEGIN:DAYLIGHT
TZOFFSETFROM:+0100
TZOFFSETTO:+0200
TZNAME:CEST
DTSTART:20230326T010000
END:DAYLIGHT
BEGIN:STANDARD
TZOFFSETFROM:+0200
TZOFFSETTO:+0100
TZNAME:CET
DTSTART:20231029T010000
END:STANDARD
END:VTIMEZONE
BEGIN:VEVENT
DTSTART;VALUE=DATE:20220916
DTEND;VALUE=DATE:20220919
DTSTAMP:20260423T114111
CREATED:20220504T094600Z
LAST-MODIFIED:20220916T091108Z
UID:10000502-1663286400-1663545599@juraparkbaltow.pl
SUMMARY:Muzyczny Zlot Camperów
DESCRIPTION:W dniach 16-18 września wszystkich miłośników Camperów zapraszamy na wydarzenie „Muzyczny Zlot Camperów”. To już kolejne spotkanie entuzjastów caravaningu\, który odbywa się na naszym terenie. Organizatorzy gwarantują wspaniałą zabawę! \nHarmonogram wydarzenia\nPiątek 16.09.2022\n15:00 Przyjazd załóg\, odbiór pakietów powitalnych\, ustawienie załóg. \n16:00 – 19:00 Indywidualne zwiedzanie Parku Dinozaurów (na podstawie identyfikatorów zlotowych) \n19:00 Grupowe zwiedzanie Browaru Bałtów (5 zł/os.) Możliwość zakupu piwa rzemielśniczego (dla uczestników zlotu promocja – 10 zł). \n20:00 Impreza integracyjna- wspólne ognisko\, karaoke\, zabawa taneczna przy muzyce. \n00:00 Cisza nocna \nSobota 17.09.2022\n10:00 Indywidualne zwiedzanie JuraParku \n10:15 Wyjazd autokaru do Żywego Muzeum Porcelany w Ćmielowie oraz Sery Sandomierskie. Zapisy na wycieczkę w biurze zlotu (cena 50zł/os). \n16:00 Wykład na temat prawidłowego korzystania z urządzeń CammperPark \n19:00- 22:00 Koncert i zabawa z Wheels of Steel Band (wstęp bezpłatny) \nPodczas wydarzenia odbędzie się także konkurs na najlepiej przebraną załogę! Dla zwycięzców przewidziane nagrody. \nNiedziela 18.09.2022\n10:00 Ciąg dalszy zwiedzania i zabaw w Bałtowskim Kompleksie Turystycznym \n11:00 Wycieczka rowerowa wokół wyznaczonych tras. \n15:00 Zakończenie zlotu \n  \nUwaga!\nUczestnicy zlotu za okazaniem opaski w kasach Bałtowskiego Kompleksu Turystycznego otrzymują 20% rabatu na bilet kompleksowy! \nJeśli chcesz dołączyć do muzycznego zlotu\, możesz to zrobić! Zostały wolne miejsca! \nWpisowe 250 zł załoga 2-osobowa + 30 zł kolejna osoba. \nWięcej informacji o wydarzeniu – TUTAJ \nPROGRAM ZLOTU MOŻE ULEC DROBNEJ MODYFIKACJI.
URL:https://juraparkbaltow.pl/kalendarz/muzyczny-zlot-camperow/
LOCATION:Bałtowski Kompleks Turystyczny\, Bałtów 8a\, Bałtów\, świętokrzyskie\, 27-423\, Polska
ATTACH;FMTTYPE=image/jpeg:https://juraparkbaltow.pl/wp-content/uploads/2022/05/zlot-camperow1.jpg
END:VEVENT
END:VCALENDAR